BEGIN:VCALENDAR
VERSION:2.0
PRODID:-//Tukios.com/
BEGIN:VEVENT
UID:1f5583cf-45b5-4cd3-80e5-61de28569847@www.burtonquinnscott.com
DTSTAMP:20260425T180129Z
DTSTART:20260502T160000Z
DTEND:20260502T170000Z
SUMMARY:Funeral Service
DESCRIPTION:
URL:https://www.burtonquinnscott.com/obituaries/veletia-childs
LOCATION: 823 Cherry St  Erie PA 16502
GEO:42.1219498;-80.0965268
END:VEVENT
END:VCALENDAR