BEGIN:VCALENDAR
VERSION:2.0
PRODID:-//Tukios.com/
BEGIN:VEVENT
UID:6c72999c-12af-47c7-9899-07daadb4d52e@www.burtonquinnscott.com
DTSTAMP:20260425T180349Z
DTSTART:20260502T150000Z
DTEND:20260502T160000Z
SUMMARY:Visitation
DESCRIPTION:
URL:https://www.burtonquinnscott.com/obituaries/veletia-childs
LOCATION: 823 Cherry St  Erie PA 16502
GEO:42.1219498;-80.0965268
END:VEVENT
END:VCALENDAR