BEGIN:VCALENDAR
VERSION:2.0
PRODID:-//Tukios.com/
BEGIN:VEVENT
UID:b30d93fa-ac62-4d38-8fc1-f1a374c74af2@www.burtonquinnscott.com
DTSTAMP:20260420T190606Z
DTSTART:20260422T210000Z
DTEND:20260422T220000Z
SUMMARY:Time of Sharing
DESCRIPTION:
URL:https://www.burtonquinnscott.com/obituaries/russell-ellinger-ii
LOCATION: 602 W 10th St.  Erie PA 16502
GEO:42.1207917;-80.0963788
END:VEVENT
END:VCALENDAR