BEGIN:VCALENDAR
VERSION:2.0
PRODID:-//Tukios.com/
BEGIN:VEVENT
UID:b634a335-cc6d-4bd6-8d57-639d59e55cb3@www.burtonquinnscott.com
DTSTAMP:20260420T190607Z
DTSTART:20260422T190000Z
DTEND:20260422T210000Z
SUMMARY:Visitation
DESCRIPTION:
URL:https://www.burtonquinnscott.com/obituaries/russell-ellinger-ii
LOCATION:Burton Quinn Scott Cremation & Funeral Services Inc. Downtown 
	602 West 10th Street  Erie PA 16502
GEO:42.1207917;-80.0963788
END:VEVENT
END:VCALENDAR