BEGIN:VCALENDAR
VERSION:2.0
PRODID:-//Tukios.com/
BEGIN:VEVENT
UID:f25d3a05-10a9-49c3-900a-16af586d7104@www.burtonquinnscott.com
DTSTAMP:20260423T162755Z
DTSTART:20260502T150000Z
DTEND:20260502T160000Z
SUMMARY:Funeral Service
DESCRIPTION:
URL:https://www.burtonquinnscott.com/obituaries/rosemary-petrone
LOCATION: 3801 W 26th St.  Erie PA 16506
GEO:42.0795065;-80.1591093
END:VEVENT
END:VCALENDAR