BEGIN:VCALENDAR
VERSION:2.0
PRODID:-//Tukios.com/
BEGIN:VEVENT
UID:9b9da609-2622-437d-9b18-3c6a516a686e@www.burtonquinnscott.com
DTSTAMP:20260423T162634Z
DTSTART:20260502T140000Z
DTEND:20260502T150000Z
SUMMARY:Viewing
DESCRIPTION:
URL:https://www.burtonquinnscott.com/obituaries/rosemary-petrone
LOCATION: 3801 W 26th St.  Erie PA 16506
GEO:42.0795065;-80.1591093
END:VEVENT
END:VCALENDAR