BEGIN:VCALENDAR
VERSION:2.0
PRODID:-//Tukios.com/
BEGIN:VEVENT
UID:aa12cacf-78a8-4ce7-838c-dbf44837d1a7@www.burtonquinnscott.com
DTSTAMP:20260423T195103Z
DTSTART:20260428T160000Z
DTEND:20260428T170000Z
SUMMARY:Memorial Service
DESCRIPTION:
URL:https://www.burtonquinnscott.com/obituaries/rosemarie-burke
LOCATION: 2532 Norcross Rd.  Erie PA 16510
GEO:42.1113923;-80.0014087
END:VEVENT
END:VCALENDAR