BEGIN:VCALENDAR
VERSION:2.0
PRODID:-//Tukios.com/
BEGIN:VEVENT
UID:da766056-f5f4-4d86-b8b4-cef134889caf@www.burtonquinnscott.com
DTSTAMP:20260423T194859Z
DTSTART:20260428T140000Z
DTEND:20260428T160000Z
SUMMARY:Visitation
DESCRIPTION:
URL:https://www.burtonquinnscott.com/obituaries/rosemarie-burke
LOCATION: 2532 Norcross Rd.  Erie PA 16510
GEO:42.1113923;-80.0014087
END:VEVENT
END:VCALENDAR