BEGIN:VCALENDAR
VERSION:2.0
PRODID:-//Tukios.com/
BEGIN:VEVENT
UID:0724aa16-5dd5-4ae1-8835-28b41ba436b0@www.burtonquinnscott.com
DTSTAMP:20260420T181531Z
DTSTART:20260424T170000Z
DTEND:20260424T180000Z
SUMMARY:Celebration of Life
DESCRIPTION:
URL:https://www.burtonquinnscott.com/obituaries/john-szelencsik
LOCATION: 2532 Norcross Road  Erie PA 16510
GEO:42.1113923;-80.0014087
END:VEVENT
END:VCALENDAR