BEGIN:VCALENDAR
VERSION:2.0
PRODID:-//Tukios.com/
BEGIN:VEVENT
UID:2b52f04d-42f7-4d8e-80bf-3143f8fd153d@www.burtonquinnscott.com
DTSTAMP:20260421T203325Z
DTSTART:20260425T180000Z
DTEND:20260425T200000Z
SUMMARY:Visitation
DESCRIPTION:
URL:https://www.burtonquinnscott.com/obituaries/janice-borland
LOCATION: 229 Rice Avenue  Girard PA 16417
GEO:42.0028466;-80.3215392
END:VEVENT
END:VCALENDAR