BEGIN:VCALENDAR
VERSION:2.0
PRODID:-//Tukios.com/
BEGIN:VEVENT
UID:3d9c7c93-dd3c-4d17-8a9e-9d50cbad822b@www.burtonquinnscott.com
DTSTAMP:20260421T204035Z
DTSTART:20260425T200000Z
DTEND:20260425T210000Z
SUMMARY:Memorial Service
DESCRIPTION:
URL:https://www.burtonquinnscott.com/obituaries/janice-borland
LOCATION:Girard Alliance Church  229 Rice Avenue  Girard PA 16417
GEO:42.0028466;-80.3215392
END:VEVENT
END:VCALENDAR