BEGIN:VCALENDAR
VERSION:2.0
PRODID:-//Tukios.com/
BEGIN:VEVENT
UID:d3449f84-3674-4155-a9e6-e48c359d3791@www.burtonquinnscott.com
DTSTAMP:20260424T000217Z
DTSTART:20260427T150000Z
DTEND:20260427T160000Z
SUMMARY:Funeral Service
DESCRIPTION:
URL:https://www.burtonquinnscott.com/obituaries/david-plummer
LOCATION: 3801 W 26th St.  Erie PA 16506
GEO:42.0795065;-80.1591093
END:VEVENT
END:VCALENDAR