BEGIN:VCALENDAR
VERSION:2.0
PRODID:-//Tukios.com/
BEGIN:VEVENT
UID:f344f23f-0fc6-41d0-8e77-ac228587d913@www.burtonquinnscott.com
DTSTAMP:20260423T235943Z
DTSTART:20260426T210000Z
DTEND:20260427T000000Z
SUMMARY:Visitation
DESCRIPTION:
URL:https://www.burtonquinnscott.com/obituaries/david-plummer
LOCATION: 3801 W 26th St.  Erie PA 16506
GEO:42.0795065;-80.1591093
END:VEVENT
END:VCALENDAR