BEGIN:VCALENDAR
VERSION:2.0
PRODID:-//Tukios.com/
BEGIN:VEVENT
UID:465f69a2-48c1-4cfe-92bd-68bb79fc2ab3@www.burtonquinnscott.com
DTSTAMP:20260424T154615Z
DTSTART:20260428T170000Z
DTEND:20260428T180000Z
SUMMARY:Funeral Service
DESCRIPTION:
URL:https://www.burtonquinnscott.com/obituaries/barbara-moon
LOCATION: 3801 W 26th St.  Erie PA 16506
GEO:42.0795065;-80.1591093
END:VEVENT
END:VCALENDAR