BEGIN:VCALENDAR
VERSION:2.0
PRODID:-//Tukios.com/
BEGIN:VEVENT
UID:33b48790-7a10-46c7-9782-a156a5801b86@www.burtonquinnscott.com
DTSTAMP:20260424T155043Z
DTSTART:20260428T180000Z
DTEND:20260428T190000Z
SUMMARY:Burial
DESCRIPTION:
URL:https://www.burtonquinnscott.com/obituaries/barbara-moon
LOCATION: 4523 Love Road  Erie PA 16506
GEO:42.0662977;-80.1449518
END:VEVENT
END:VCALENDAR