BEGIN:VCALENDAR
VERSION:2.0
PRODID:-//Tukios.com/
BEGIN:VEVENT
UID:4c9add46-b985-47d5-90a5-ff176f160362@www.burtonquinnscott.com
DTSTAMP:20260424T155113Z
DTSTART:20260428T150000Z
DTEND:20260428T170000Z
SUMMARY:Visitation
DESCRIPTION:
URL:https://www.burtonquinnscott.com/obituaries/barbara-moon
LOCATION:Burton Quinn-Scott Cremation and Funeral Services, West Ridge 
	3801 West 26th Street  Erie PA 16506
GEO:42.0795065;-80.1591093
END:VEVENT
END:VCALENDAR